BEGIN:VCALENDAR
VERSION:2.0
PRODID:-//AMWA - Carolinas Chapter - ECPv6.15.20//NONSGML v1.0//EN
CALSCALE:GREGORIAN
METHOD:PUBLISH
X-ORIGINAL-URL:https://www.amwacarolinas.org/wp
X-WR-CALDESC:Events for AMWA - Carolinas Chapter
REFRESH-INTERVAL;VALUE=DURATION:PT1H
X-Robots-Tag:noindex
X-PUBLISHED-TTL:PT1H
BEGIN:VTIMEZONE
TZID:America/New_York
BEGIN:DAYLIGHT
TZOFFSETFROM:-0500
TZOFFSETTO:-0400
TZNAME:EDT
DTSTART:20240310T070000
END:DAYLIGHT
BEGIN:STANDARD
TZOFFSETFROM:-0400
TZOFFSETTO:-0500
TZNAME:EST
DTSTART:20241103T060000
END:STANDARD
BEGIN:DAYLIGHT
TZOFFSETFROM:-0500
TZOFFSETTO:-0400
TZNAME:EDT
DTSTART:20250309T070000
END:DAYLIGHT
BEGIN:STANDARD
TZOFFSETFROM:-0400
TZOFFSETTO:-0500
TZNAME:EST
DTSTART:20251102T060000
END:STANDARD
BEGIN:DAYLIGHT
TZOFFSETFROM:-0500
TZOFFSETTO:-0400
TZNAME:EDT
DTSTART:20260308T070000
END:DAYLIGHT
BEGIN:STANDARD
TZOFFSETFROM:-0400
TZOFFSETTO:-0500
TZNAME:EST
DTSTART:20261101T060000
END:STANDARD
END:VTIMEZONE
BEGIN:VEVENT
DTSTART;TZID=America/New_York:20251106T180000
DTEND;TZID=America/New_York:20251106T203000
DTSTAMP:20260425T085247
CREATED:20251008T142058Z
LAST-MODIFIED:20251014T151455Z
UID:4424-1762452000-1762461000@www.amwacarolinas.org
SUMMARY:AMWA Carolinas National Conference Dinner
DESCRIPTION:Headed to the AMWA National Conference in Phoenix? Please join us for the AMWA Carolinas Chapter Dinner! The dinner is prix fixe; please sign up and pre-pay by October 29th. \nThe restaurant is Arizona Wilderness Brewing Co. – Downtown Phoenix (201 E Roosevelt St\, Phoenix\, AZ 85004)\, conveniently located just a 10-minute walk from the conference hotel. AMWA Carolinas members can reserve their spot at the special chapter-subsidized price of $45\, while our nonmembers are invited to join for $65. The cost includes soft drinks\, a taco bar\, and dessert (gluten free\, vegetarian\, and vegan options will be provided). Attendees are welcome to purchase their own alcoholic drinks at the restaurant. \nWe will meet in the lobby of the conference hotel (Sheraton Phoenix Downtown\, 340 North 3rd Street Phoenix\, Arizona  85004) at 5:30 pm and then walk or carpool to the restaurant together. Dinner begins at 6:00 pm. \nTo register for the AMWA Carolinas National Conference Dinner\, click here!*\n*Note\, we are using a platform\, Zeffy\, that does not charge transaction fees but collects donations. A default donation is included\, but you can edit this in the drop down menu by selecting “other” and setting a custom donation amount of $0. AMWA Carolinas is unable to refund donations to Zeffy.  \nForgot to register for the AMWA 2025 National Conference? Click here to secure your spot! Registration is open until November 8th 2025.
URL:https://www.amwacarolinas.org/wp/event/amwa-carolinas-national-conference-dinner/
LOCATION:Arizona Wilderness Brewing Co- Downtown Phoenix\, 201 E Roosevelt St\, Phoenix\, AZ\, 85004\, United States
CATEGORIES:2025 Events
ATTACH;FMTTYPE=image/png:https://www.amwacarolinas.org/wp/wp-content/uploads/AMWA-Carolinas-Chapter-Dinner.png
END:VEVENT
BEGIN:VEVENT
DTSTART;TZID=America/New_York:20251112T183000
DTEND;TZID=America/New_York:20251112T193000
DTSTAMP:20260425T085247
CREATED:20251022T131453Z
LAST-MODIFIED:20260216T214356Z
UID:4455-1762972200-1762975800@www.amwacarolinas.org
SUMMARY:Fall Journal Club
DESCRIPTION:Please join us for a stimulating\, guided virtual group discussion focused on a pivotal topic in medical writing: The Evolving Role of Medical Writers: AI as a Partner in Regulatory Submissions. \nLed by Steven Greer\, this session is a fantastic opportunity to discuss the implications of the 2025 Summer AMWA Journal piece and connect with your peers on this timely topic. \nClick the links below to access the presenter’s slide deck and the Gemini prompting guide discussed during the session! \nAI as partner in regulatory submissions  \nGemini prompting guide \n\nHow to Participate\n\nRegister for this FREE journal club by clicking here.\nTo maximize your experience and contribute to the conversation\, please read the article in advance. You can access the article by clicking here.\nSave the date!\n\nWe look forward to seeing you there! \n\n 
URL:https://www.amwacarolinas.org/wp/event/fall-journal-club/
LOCATION:Virtual
CATEGORIES:2025 Events
ATTACH;FMTTYPE=image/jpeg:https://www.amwacarolinas.org/wp/wp-content/uploads/pexels-arina-krasnikova-5951553-scaled.jpg
END:VEVENT
END:VCALENDAR