BEGIN:VCALENDAR
VERSION:2.0
PRODID:-//AMWA - Carolinas Chapter - ECPv6.15.20//NONSGML v1.0//EN
CALSCALE:GREGORIAN
METHOD:PUBLISH
X-WR-CALNAME:AMWA - Carolinas Chapter
X-ORIGINAL-URL:https://www.amwacarolinas.org/wp
X-WR-CALDESC:Events for AMWA - Carolinas Chapter
REFRESH-INTERVAL;VALUE=DURATION:PT1H
X-Robots-Tag:noindex
X-PUBLISHED-TTL:PT1H
BEGIN:VTIMEZONE
TZID:America/New_York
BEGIN:DAYLIGHT
TZOFFSETFROM:-0500
TZOFFSETTO:-0400
TZNAME:EDT
DTSTART:20190310T070000
END:DAYLIGHT
BEGIN:STANDARD
TZOFFSETFROM:-0400
TZOFFSETTO:-0500
TZNAME:EST
DTSTART:20191103T060000
END:STANDARD
BEGIN:DAYLIGHT
TZOFFSETFROM:-0500
TZOFFSETTO:-0400
TZNAME:EDT
DTSTART:20200308T070000
END:DAYLIGHT
BEGIN:STANDARD
TZOFFSETFROM:-0400
TZOFFSETTO:-0500
TZNAME:EST
DTSTART:20201101T060000
END:STANDARD
BEGIN:DAYLIGHT
TZOFFSETFROM:-0500
TZOFFSETTO:-0400
TZNAME:EDT
DTSTART:20210314T070000
END:DAYLIGHT
BEGIN:STANDARD
TZOFFSETFROM:-0400
TZOFFSETTO:-0500
TZNAME:EST
DTSTART:20211107T060000
END:STANDARD
BEGIN:DAYLIGHT
TZOFFSETFROM:-0500
TZOFFSETTO:-0400
TZNAME:EDT
DTSTART:20220313T070000
END:DAYLIGHT
BEGIN:STANDARD
TZOFFSETFROM:-0400
TZOFFSETTO:-0500
TZNAME:EST
DTSTART:20221106T060000
END:STANDARD
END:VTIMEZONE
BEGIN:VEVENT
DTSTART;TZID=America/New_York:20210507T080000
DTEND;TZID=America/New_York:20210507T170000
DTSTAMP:20260425T075916
CREATED:20210321T162101Z
LAST-MODIFIED:20210329T223509Z
UID:2138-1620374400-1620406800@www.amwacarolinas.org
SUMMARY:Annual Carolinas Spring Conference - Save the date
DESCRIPTION:Our annual spring conference is back for 2021! This year\, we’ll host the conference virtually\, with a full day of learning and networking events. We hope you’ll join us! \nTake advantage of our early bird registration fees by registering by March 31st! Register for the event HERE \nCheck out the conference landing page for program details: https://www.amwacarolinas.org/wp/2021-spring-conference/(opens in a new tab)
URL:https://www.amwacarolinas.org/wp/event/annual-carolinas-spring-conference/
LOCATION:Zoom event
CATEGORIES:2021 Events
ATTACH;FMTTYPE=image/jpeg:https://www.amwacarolinas.org/wp/wp-content/uploads/5-7-2021-event.jpeg
END:VEVENT
BEGIN:VEVENT
DTSTART;TZID=America/New_York:20210408T183000
DTEND;TZID=America/New_York:20210408T200000
DTSTAMP:20260425T075916
CREATED:20210321T155557Z
LAST-MODIFIED:20210323T001933Z
UID:2132-1617906600-1617912000@www.amwacarolinas.org
SUMMARY:Medical Writing Career Panel
DESCRIPTION:Interested in becoming a medical writer? AMWA Carolinas is hosting a virtual medical writing career panel featuring medical writers from a range of employers: \nPanelists include: \n\nKent Steinriede\, MS\, Principal Medical Writer\, Syneos Health\nRhyomi Sellnow\,  PhD\, Medical Writer\, MedThink SciCom\nAngela Howard\, PhD\, Regulatory Writer II\, Synchrogenix\nShengjie Xu\, PhD\, Associate Medical Writer\, Merck\n\nAttendance is free for AMWA members\, $5 for non-members. You don’t need to live in the Carolinas to attend. \nHope to see you there!
URL:https://www.amwacarolinas.org/wp/event/medical-writing-career-panel/
LOCATION:Zoom event
CATEGORIES:2021 Events
ATTACH;FMTTYPE=image/jpeg:https://www.amwacarolinas.org/wp/wp-content/uploads/04-08-2021-event.jpeg
END:VEVENT
BEGIN:VEVENT
DTSTART;TZID=America/New_York:20210211T183000
DTEND;TZID=America/New_York:20210211T200000
DTSTAMP:20260425T075916
CREATED:20210321T162318Z
LAST-MODIFIED:20210321T162318Z
UID:2141-1613068200-1613073600@www.amwacarolinas.org
SUMMARY:Book Club Discussion: Switch
DESCRIPTION:At this book club we will be discussing the book Switch: How to Change Things When Change Is Hard by Chip and Dan Heath. \nAMWA Carolinas member Amber Carr will facilitate this online discussion. \nInvitation to register for the event was sent out to AMWA Carolina chapter member email list.
URL:https://www.amwacarolinas.org/wp/event/book-club-discussion-switch/
LOCATION:Zoom event
CATEGORIES:2021 Events
END:VEVENT
BEGIN:VEVENT
DTSTART;TZID=America/New_York:20210114T183000
DTEND;TZID=America/New_York:20210114T200000
DTSTAMP:20260425T075916
CREATED:20210321T162419Z
LAST-MODIFIED:20210321T162419Z
UID:2143-1610649000-1610654400@www.amwacarolinas.org
SUMMARY:Annual Business Meeting and Chapter Officers Election
DESCRIPTION:At our annual Chapter Business Meeting we will vote on Chapter Executive Committee members for 2021\, discuss programming for 2021\, the May chapter conference\, and will hear conference recaps from 2020 national conference attendees.
URL:https://www.amwacarolinas.org/wp/event/annual-business-meeting-and-chapter-officers-election/
LOCATION:Zoom event
CATEGORIES:2021 Events
END:VEVENT
BEGIN:VEVENT
DTSTART;TZID=America/New_York:20201210T183000
DTEND;TZID=America/New_York:20201210T200000
DTSTAMP:20260425T075916
CREATED:20210321T162552Z
LAST-MODIFIED:20210321T162552Z
UID:2145-1607625000-1607630400@www.amwacarolinas.org
SUMMARY:AMWA Carolinas Virtual Holiday Party
DESCRIPTION:Come network with the AMWA Carolinas chapter leadership and fellow chapter members and play AMWA Carolinas’ version of Jeopardy…no experience required!
URL:https://www.amwacarolinas.org/wp/event/amwa-carolinas-virtual-holiday-party/
CATEGORIES:2021 Events
ATTACH;FMTTYPE=image/jpeg:https://www.amwacarolinas.org/wp/wp-content/uploads/Holiday-Blog-Header-845x396-1.jpg
END:VEVENT
BEGIN:VEVENT
DTSTART;TZID=America/New_York:20201119T183000
DTEND;TZID=America/New_York:20201119T200000
DTSTAMP:20260425T075916
CREATED:20210321T162658Z
LAST-MODIFIED:20210321T162658Z
UID:2147-1605810600-1605816000@www.amwacarolinas.org
SUMMARY:AMWA Carolinas Volunteer/Leadership Interest Meeting
DESCRIPTION:Join us to learn more about opportunities to get involved in AMWA Carolinas! We will be soliciting nominations for leadership roles within our chapter as well as discussing ways to get involved\, including helping us plan programming and our annual Spring Conference in May.
URL:https://www.amwacarolinas.org/wp/event/amwa-carolinas-volunteer-leadership-interest-meeting/
CATEGORIES:2021 Events
END:VEVENT
BEGIN:VEVENT
DTSTART;TZID=America/New_York:20200903T120000
DTEND;TZID=America/New_York:20200903T130000
DTSTAMP:20260425T075916
CREATED:20210321T162854Z
LAST-MODIFIED:20210321T163005Z
UID:2149-1599134400-1599138000@www.amwacarolinas.org
SUMMARY:Medical Writing Entrepreneurship Panel
DESCRIPTION:Join us for a Q&A style discussion on starting your own Medical Writing Business. If you have ever thought about venturing out on your own or are looking for tips to enhance your business\, this panel is a great opportunity for you! \n\n\n\nPanelists will include: Carolyn Beam\, PhD\, Senior Medical Writer at Beam Medical Communications LLC Trisha Houser\, Manager at Houser Clinical Research Writing and Consulting LLC Ursula Jorch\, MSc\, MEd\, Business Coach and Medical Writer at Jorch Consulting Inc. Dorothy Keine\, PhD\, Owner and Founder at 3Prime Medical Writing LLC
URL:https://www.amwacarolinas.org/wp/event/medical-writing-entrepreneurship-panel/
CATEGORIES:2020 Events
END:VEVENT
END:VCALENDAR