BEGIN:VCALENDAR
VERSION:2.0
PRODID:-//AMWA - Carolinas Chapter - ECPv6.15.20//NONSGML v1.0//EN
CALSCALE:GREGORIAN
METHOD:PUBLISH
X-WR-CALNAME:AMWA - Carolinas Chapter
X-ORIGINAL-URL:https://www.amwacarolinas.org/wp
X-WR-CALDESC:Events for AMWA - Carolinas Chapter
REFRESH-INTERVAL;VALUE=DURATION:PT1H
X-Robots-Tag:noindex
X-PUBLISHED-TTL:PT1H
BEGIN:VTIMEZONE
TZID:America/New_York
BEGIN:DAYLIGHT
TZOFFSETFROM:-0500
TZOFFSETTO:-0400
TZNAME:EDT
DTSTART:20250309T070000
END:DAYLIGHT
BEGIN:STANDARD
TZOFFSETFROM:-0400
TZOFFSETTO:-0500
TZNAME:EST
DTSTART:20251102T060000
END:STANDARD
BEGIN:DAYLIGHT
TZOFFSETFROM:-0500
TZOFFSETTO:-0400
TZNAME:EDT
DTSTART:20260308T070000
END:DAYLIGHT
BEGIN:STANDARD
TZOFFSETFROM:-0400
TZOFFSETTO:-0500
TZNAME:EST
DTSTART:20261101T060000
END:STANDARD
BEGIN:DAYLIGHT
TZOFFSETFROM:-0500
TZOFFSETTO:-0400
TZNAME:EDT
DTSTART:20270314T070000
END:DAYLIGHT
BEGIN:STANDARD
TZOFFSETFROM:-0400
TZOFFSETTO:-0500
TZNAME:EST
DTSTART:20271107T060000
END:STANDARD
END:VTIMEZONE
BEGIN:VEVENT
DTSTART;TZID=America/New_York:20260414T183000
DTEND;TZID=America/New_York:20260414T193000
DTSTAMP:20260425T100319
CREATED:20260402T230026Z
LAST-MODIFIED:20260402T230026Z
UID:4711-1776191400-1776195000@www.amwacarolinas.org
SUMMARY:Spring Journal Club
DESCRIPTION:This will be a guided group discussion led by Nick Boyer on the following article from the AMWA Journal Volume 40\, No. 4: “Writing to Improve Exercise Habits: Why It’s a Heavy Lift”. This article is written by Peter Stein\, DC\, PhD and can be accessed from this URL: https://amwajournal.org/index.php/amwa/article/view/326/446 \nMost Americans don’t reach the recommended amount of daily physical activity\, and social determinants of health play a role in who does and does not achieve movement targets. Does absent\, deficient\, or insufficient medical communication about exercise play a role in these disparities? Join this discussion to explore how medical writers can address social barriers and create clearer\, more inclusive communication about exercise and health. \nDate: Tuesday\, April 14\, 2026 \nLocation: Virtual \nTime: 6:30 to 7:30 EST \nClick here to register! \n 
URL:https://www.amwacarolinas.org/wp/event/spring-journal-club-2/
LOCATION:Zoom event
ATTACH;FMTTYPE=image/jpeg:https://www.amwacarolinas.org/wp/wp-content/uploads/thought-catalog-505eectW54k-unsplash-scaled.jpg
END:VEVENT
BEGIN:VEVENT
DTSTART;TZID=America/New_York:20260423T060000
DTEND;TZID=America/New_York:20260423T193000
DTSTAMP:20260425T100319
CREATED:20260414T220002Z
LAST-MODIFIED:20260418T160533Z
UID:4726-1776924000-1776972600@www.amwacarolinas.org
SUMMARY:In-Person Networking Event in Apex!
DESCRIPTION:Back again for 2026: our casual networking book swap at Alleyway Bookstore in Apex\, NC! This is a Sip and Trade event\, where attendees get store credit for trading in old books and can enjoy wine and snacks while they browse and mingle. Come along for an opportunity to network with your colleagues\, a glass of free champagne\, and free snacks!\nDate: Thursday\, April 23rd\, 2026 Time: 6:00 – 7:30 pm Location: Alleyway Bookstore\, 116 N Salem St Apex\, NC 27502 Cost: Free Register: Click Here
URL:https://www.amwacarolinas.org/wp/event/in-person-networking-event-in-apex-2/
LOCATION:Alleyway Bookstore\, 116 N Salem St\, Apex\, SC\, 27502\, United States
CATEGORIES:2026 Events
END:VEVENT
END:VCALENDAR