BEGIN:VCALENDAR
VERSION:2.0
PRODID:-//AMWA - Carolinas Chapter - ECPv6.15.20//NONSGML v1.0//EN
CALSCALE:GREGORIAN
METHOD:PUBLISH
X-WR-CALNAME:AMWA - Carolinas Chapter
X-ORIGINAL-URL:https://www.amwacarolinas.org/wp
X-WR-CALDESC:Events for AMWA - Carolinas Chapter
REFRESH-INTERVAL;VALUE=DURATION:PT1H
X-Robots-Tag:noindex
X-PUBLISHED-TTL:PT1H
BEGIN:VTIMEZONE
TZID:America/New_York
BEGIN:DAYLIGHT
TZOFFSETFROM:-0500
TZOFFSETTO:-0400
TZNAME:EDT
DTSTART:20240310T070000
END:DAYLIGHT
BEGIN:STANDARD
TZOFFSETFROM:-0400
TZOFFSETTO:-0500
TZNAME:EST
DTSTART:20241103T060000
END:STANDARD
BEGIN:DAYLIGHT
TZOFFSETFROM:-0500
TZOFFSETTO:-0400
TZNAME:EDT
DTSTART:20250309T070000
END:DAYLIGHT
BEGIN:STANDARD
TZOFFSETFROM:-0400
TZOFFSETTO:-0500
TZNAME:EST
DTSTART:20251102T060000
END:STANDARD
BEGIN:DAYLIGHT
TZOFFSETFROM:-0500
TZOFFSETTO:-0400
TZNAME:EDT
DTSTART:20260308T070000
END:DAYLIGHT
BEGIN:STANDARD
TZOFFSETFROM:-0400
TZOFFSETTO:-0500
TZNAME:EST
DTSTART:20261101T060000
END:STANDARD
END:VTIMEZONE
BEGIN:VEVENT
DTSTART;TZID=America/New_York:20251210T183000
DTEND;TZID=America/New_York:20251210T203000
DTSTAMP:20260425T133242
CREATED:20251111T150955Z
LAST-MODIFIED:20251130T141026Z
UID:4488-1765391400-1765398600@www.amwacarolinas.org
SUMMARY:RTP Holiday Party
DESCRIPTION:Join your colleagues from the AMWA Carolinas Chapter for a festive and relaxed holiday party! This is an opportunity to connect with fellow members over drinks and appetizers\, share season’s greetings\, and enjoy some time away from the keyboard. \nThis event is complimentary for all AMWA Carolinas members. Ample onsite parking is available for your convenience. \nClick here to register for the RTP 2026 Holiday Party! 
URL:https://www.amwacarolinas.org/wp/event/rtp-holiday-party/
LOCATION:Page Road Grill\, 5416 Page Road\, Durham\, NC\, 27703
CATEGORIES:2025 Events
ATTACH;FMTTYPE=image/png:https://www.amwacarolinas.org/wp/wp-content/uploads/RTP-Holiday-event.png
END:VEVENT
BEGIN:VEVENT
DTSTART;TZID=America/New_York:20251211T180000
DTEND;TZID=America/New_York:20251211T200000
DTSTAMP:20260425T133242
CREATED:20251111T144710Z
LAST-MODIFIED:20251130T141142Z
UID:4479-1765476000-1765483200@www.amwacarolinas.org
SUMMARY:Asheville Holiday Party
DESCRIPTION:The AMWA Carolinas Chapter is hosting its annual holiday bash\, and you’re invited! Join us for a well deserved break from medical writing to catch up with colleagues over drinks and appetizers and enjoy a festive evening.\nThis event is complimentary for all AMWA Carolinas members.\nClick here to register for the Asheville 2026 Holiday Party!
URL:https://www.amwacarolinas.org/wp/event/asheville-holiday-party/
LOCATION:Farmese\, 5 Biltmore Ave\, Asheville\, North Carolina\, 28801\, United States
CATEGORIES:2025 Events
ATTACH;FMTTYPE=image/png:https://www.amwacarolinas.org/wp/wp-content/uploads/Ashville-Holiday-event.png
END:VEVENT
BEGIN:VEVENT
DTSTART;TZID=America/New_York:20251218T080000
DTEND;TZID=America/New_York:20251218T183000
DTSTAMP:20260425T133242
CREATED:20251130T135241Z
LAST-MODIFIED:20251130T135241Z
UID:4510-1766044800-1766082600@www.amwacarolinas.org
SUMMARY:Triad Holiday Party
DESCRIPTION:The AMWA Carolinas Chapter warmly invites you to our annual Triad area holiday party! Connect with colleagues in a festive\, relaxed setting while enjoying complimentary appetizers and beverages. It’s our way of saying thank you! Register now to secure your attendance.\nThis special sponsored event is exclusive to AMWA members.\nClick here to register for the 2025 Triad area holiday party!
URL:https://www.amwacarolinas.org/wp/event/triad-holiday-party/
LOCATION:Darryl’s Wood Fired Grill\, 3300 W Gate City Blvd\, Greensboro\, 27407\, United States
CATEGORIES:2025 Events
ATTACH;FMTTYPE=image/png:https://www.amwacarolinas.org/wp/wp-content/uploads/Triad-Area-Holiday-event.png
END:VEVENT
END:VCALENDAR