BEGIN:VCALENDAR
VERSION:2.0
PRODID:-//AMWA - Carolinas Chapter - ECPv6.15.20//NONSGML v1.0//EN
CALSCALE:GREGORIAN
METHOD:PUBLISH
X-ORIGINAL-URL:https://www.amwacarolinas.org/wp
X-WR-CALDESC:Events for AMWA - Carolinas Chapter
REFRESH-INTERVAL;VALUE=DURATION:PT1H
X-Robots-Tag:noindex
X-PUBLISHED-TTL:PT1H
BEGIN:VTIMEZONE
TZID:America/New_York
BEGIN:DAYLIGHT
TZOFFSETFROM:-0500
TZOFFSETTO:-0400
TZNAME:EDT
DTSTART:20240310T070000
END:DAYLIGHT
BEGIN:STANDARD
TZOFFSETFROM:-0400
TZOFFSETTO:-0500
TZNAME:EST
DTSTART:20241103T060000
END:STANDARD
BEGIN:DAYLIGHT
TZOFFSETFROM:-0500
TZOFFSETTO:-0400
TZNAME:EDT
DTSTART:20250309T070000
END:DAYLIGHT
BEGIN:STANDARD
TZOFFSETFROM:-0400
TZOFFSETTO:-0500
TZNAME:EST
DTSTART:20251102T060000
END:STANDARD
BEGIN:DAYLIGHT
TZOFFSETFROM:-0500
TZOFFSETTO:-0400
TZNAME:EDT
DTSTART:20260308T070000
END:DAYLIGHT
BEGIN:STANDARD
TZOFFSETFROM:-0400
TZOFFSETTO:-0500
TZNAME:EST
DTSTART:20261101T060000
END:STANDARD
END:VTIMEZONE
BEGIN:VEVENT
DTSTART;TZID=America/New_York:20250827T180000
DTEND;TZID=America/New_York:20250827T190000
DTSTAMP:20260425T210433
CREATED:20250727T191624Z
LAST-MODIFIED:20250727T191723Z
UID:4288-1756317600-1756321200@www.amwacarolinas.org
SUMMARY:Gentle Yoga Session
DESCRIPTION:Elevate your well-being with a refreshing gentle yoga session! We’re thrilled to offer this unique opportunity to practice mindfulness and movement under the expert guidance of Molly Rodriguez\, a certified yoga instructor and an AMWA Carolinas Chapter Director. This is more than just a yoga class; it’s a chance to foster connection and community in a peaceful environment. \nMark your calendars for Wednesday\, August 27th\, from 6 to 7 PM\, at the North Carolina Biotechnology Center in Durham. This exclusive event\, held in the Congressional Room\, welcomes both AMWA members and non-members. With a strict cap of 20 participants\, secure your spot soon for just $10.  \nCome dressed comfortably\, bring your mat and water bottle\, and if you have an extra mat\, we encourage you to share! Don’t have a mat? Send an email to the AMWA Carolinas Chapter President\, and we’ll assist you. \nClick here to register!
URL:https://www.amwacarolinas.org/wp/event/gentle-yoga-session/
LOCATION:North Carolina Biotechnology Center\, 15 TW Alexander Dr\, Durham\, NC\, 27713\, United States
CATEGORIES:2025 Events
ATTACH;FMTTYPE=image/jpeg:https://www.amwacarolinas.org/wp/wp-content/uploads/pexels-prasanthinturi-1051838-scaled.jpg
ORGANIZER;CN="Jayanika Samaranayake":MAILTO:amwa.carolinas@gmail.com
END:VEVENT
END:VCALENDAR