BEGIN:VCALENDAR
VERSION:2.0
PRODID:-//AMWA - Carolinas Chapter - ECPv6.15.20//NONSGML v1.0//EN
CALSCALE:GREGORIAN
METHOD:PUBLISH
X-WR-CALNAME:AMWA - Carolinas Chapter
X-ORIGINAL-URL:https://www.amwacarolinas.org/wp
X-WR-CALDESC:Events for AMWA - Carolinas Chapter
REFRESH-INTERVAL;VALUE=DURATION:PT1H
X-Robots-Tag:noindex
X-PUBLISHED-TTL:PT1H
BEGIN:VTIMEZONE
TZID:America/New_York
BEGIN:DAYLIGHT
TZOFFSETFROM:-0500
TZOFFSETTO:-0400
TZNAME:EDT
DTSTART:20240310T070000
END:DAYLIGHT
BEGIN:STANDARD
TZOFFSETFROM:-0400
TZOFFSETTO:-0500
TZNAME:EST
DTSTART:20241103T060000
END:STANDARD
BEGIN:DAYLIGHT
TZOFFSETFROM:-0500
TZOFFSETTO:-0400
TZNAME:EDT
DTSTART:20250309T070000
END:DAYLIGHT
BEGIN:STANDARD
TZOFFSETFROM:-0400
TZOFFSETTO:-0500
TZNAME:EST
DTSTART:20251102T060000
END:STANDARD
BEGIN:DAYLIGHT
TZOFFSETFROM:-0500
TZOFFSETTO:-0400
TZNAME:EDT
DTSTART:20260308T070000
END:DAYLIGHT
BEGIN:STANDARD
TZOFFSETFROM:-0400
TZOFFSETTO:-0500
TZNAME:EST
DTSTART:20261101T060000
END:STANDARD
END:VTIMEZONE
BEGIN:VEVENT
DTSTART;TZID=America/New_York:20250709T183000
DTEND;TZID=America/New_York:20250709T203000
DTSTAMP:20260425T225321
CREATED:20250612T224836Z
LAST-MODIFIED:20250612T225956Z
UID:4214-1752085800-1752093000@www.amwacarolinas.org
SUMMARY:AMWA Carolinas July Summer Networking Event
DESCRIPTION:Join the AMWA Carolinas Chapter for a summer networking event! This is an excellent opportunity to connect in a relaxed setting. This event is open to both AMWA members and non-members\, and attendees are responsible for their own food and beverage purchases. \nClick here to register! \nWe will be meeting on the Main Level of Transfer Co. Food Hall\, where our Board of Directors will do their best to secure a few tables. If you don’t spot us there\, head upstairs to The Loft and look for the group. \nWe look forward to seeing you there!
URL:https://www.amwacarolinas.org/wp/event/amwa-carolinas-july-summer-networking-event/
LOCATION:Transfer Co. Food Hall\, 500 E Davie St\, Raleigh\, NC\, 27601\, United States
CATEGORIES:2025 Events
ATTACH;FMTTYPE=image/jpeg:https://www.amwacarolinas.org/wp/wp-content/uploads/helena-lopes-Sefrp3gZNKs-unsplash-scaled.jpg
ORGANIZER;CN="Jayanika Samaranayake":MAILTO:amwa.carolinas@gmail.com
END:VEVENT
END:VCALENDAR