BEGIN:VCALENDAR
VERSION:2.0
PRODID:-//AMWA - Carolinas Chapter - ECPv6.15.20//NONSGML v1.0//EN
CALSCALE:GREGORIAN
METHOD:PUBLISH
X-ORIGINAL-URL:https://www.amwacarolinas.org/wp
X-WR-CALDESC:Events for AMWA - Carolinas Chapter
REFRESH-INTERVAL;VALUE=DURATION:PT1H
X-Robots-Tag:noindex
X-PUBLISHED-TTL:PT1H
BEGIN:VTIMEZONE
TZID:America/Denver
BEGIN:DAYLIGHT
TZOFFSETFROM:-0700
TZOFFSETTO:-0600
TZNAME:MDT
DTSTART:20210314T090000
END:DAYLIGHT
BEGIN:STANDARD
TZOFFSETFROM:-0600
TZOFFSETTO:-0700
TZNAME:MST
DTSTART:20211107T080000
END:STANDARD
BEGIN:DAYLIGHT
TZOFFSETFROM:-0700
TZOFFSETTO:-0600
TZNAME:MDT
DTSTART:20220313T090000
END:DAYLIGHT
BEGIN:STANDARD
TZOFFSETFROM:-0600
TZOFFSETTO:-0700
TZNAME:MST
DTSTART:20221106T080000
END:STANDARD
BEGIN:DAYLIGHT
TZOFFSETFROM:-0700
TZOFFSETTO:-0600
TZNAME:MDT
DTSTART:20230312T090000
END:DAYLIGHT
BEGIN:STANDARD
TZOFFSETFROM:-0600
TZOFFSETTO:-0700
TZNAME:MST
DTSTART:20231105T080000
END:STANDARD
END:VTIMEZONE
BEGIN:VEVENT
DTSTART;TZID=America/Denver:20221103T173000
DTEND;TZID=America/Denver:20221103T203000
DTSTAMP:20260422T120804
CREATED:20220924T145208Z
LAST-MODIFIED:20221030T151647Z
UID:2738-1667496600-1667507400@www.amwacarolinas.org
SUMMARY:Chapter Dinner in Denver\, CO
DESCRIPTION:Chapter dinner registrants\, did you hear the news? We have such a large group of chapter members gathering in Denver for the chapter dinner\, we had to change restaurants! We are still meeting at 5:30 pm on Thursday in the Sheraton lobby\, but we are walking to 3 Margaritas Downtown for a 6 pm reservation instead of Dierks. Check your inbox for an email from Demetrius Carter for details.  Drinks & appetizers will be provided by the Chapter. \n 
URL:https://www.amwacarolinas.org/wp/event/chapter-dinner-in-denver-co/
LOCATION:3 Margaritas Downtown\, 519 16th St Mall\, Denver\, CO\, 80202\, United States
CATEGORIES:2022 Events
ATTACH;FMTTYPE=image/jpeg:https://www.amwacarolinas.org/wp/wp-content/uploads/getty_598243312_356884.jpeg
ORGANIZER;CN="Demetrius Carter":MAILTO:dccarter1906@gmail.com
END:VEVENT
END:VCALENDAR