BEGIN:VCALENDAR
VERSION:2.0
PRODID:-//AMWA - Carolinas Chapter - ECPv6.15.20//NONSGML v1.0//EN
CALSCALE:GREGORIAN
METHOD:PUBLISH
X-ORIGINAL-URL:https://www.amwacarolinas.org/wp
X-WR-CALDESC:Events for AMWA - Carolinas Chapter
REFRESH-INTERVAL;VALUE=DURATION:PT1H
X-Robots-Tag:noindex
X-PUBLISHED-TTL:PT1H
BEGIN:VTIMEZONE
TZID:America/New_York
BEGIN:DAYLIGHT
TZOFFSETFROM:-0500
TZOFFSETTO:-0400
TZNAME:EDT
DTSTART:20210314T070000
END:DAYLIGHT
BEGIN:STANDARD
TZOFFSETFROM:-0400
TZOFFSETTO:-0500
TZNAME:EST
DTSTART:20211107T060000
END:STANDARD
BEGIN:DAYLIGHT
TZOFFSETFROM:-0500
TZOFFSETTO:-0400
TZNAME:EDT
DTSTART:20220313T070000
END:DAYLIGHT
BEGIN:STANDARD
TZOFFSETFROM:-0400
TZOFFSETTO:-0500
TZNAME:EST
DTSTART:20221106T060000
END:STANDARD
BEGIN:DAYLIGHT
TZOFFSETFROM:-0500
TZOFFSETTO:-0400
TZNAME:EDT
DTSTART:20230312T070000
END:DAYLIGHT
BEGIN:STANDARD
TZOFFSETFROM:-0400
TZOFFSETTO:-0500
TZNAME:EST
DTSTART:20231105T060000
END:STANDARD
END:VTIMEZONE
BEGIN:VEVENT
DTSTART;TZID=America/New_York:20221013T183000
DTEND;TZID=America/New_York:20221013T200000
DTSTAMP:20260422T133256
CREATED:20221014T144625Z
LAST-MODIFIED:20221014T154719Z
UID:2735-1665685800-1665691200@www.amwacarolinas.org
SUMMARY:Virtual Educational Session: Efficiency Tips & Tricks
DESCRIPTION:So much to do!! How can you work smarter to get more done in less time?? Join us to hear tips on how these fellow medical communicators are using hardware\, software\, and other strategies to increase their efficiencies: \n\nAlyson Wolk\, Whitsell Innovations\, Inc: Using a “prioritization and delegation matrix” to help prioritize work and hand off documents when delegation is an option.\nKim Jochman\, Merck & Co.\, Inc: Windows tips & tricks\, including minimizing all windows at once & quickly accessing files from your Windows task bar\nBJ Witkin\, Xeris Pharmaceuticals: MS Word tips\, including using the Quick Access toolbar to make commands more accessible\, using Draw Table & the Eraser functions for complex tables\, and using multiple monitors more effectively\nKelly Crossett\, Whitsell Innovations\, Inc: Using a programmable (gaming) mouse to accomplish repetitive tasks in almost any application\n\nThanks to our fabulous presenters and to all who attended! \nThe recording is available here (use passcode #3K%m6xC): Recording \nThe handout is available here: Handout
URL:https://www.amwacarolinas.org/wp/event/virtual-educational-session-efficiency-tips-tricks/
LOCATION:NC
CATEGORIES:2022 Events
ATTACH;FMTTYPE=image/jpeg:https://www.amwacarolinas.org/wp/wp-content/uploads/cropped-lukas-blazek-GnvurwJsKaY-unsplash-scaled-1.jpg
ORGANIZER;CN="Kim Jochman":MAILTO:amwa.carolinas@gmail.com
END:VEVENT
END:VCALENDAR