BEGIN:VCALENDAR
VERSION:2.0
PRODID:-//AMWA - Carolinas Chapter - ECPv6.15.20//NONSGML v1.0//EN
CALSCALE:GREGORIAN
METHOD:PUBLISH
X-WR-CALNAME:AMWA - Carolinas Chapter
X-ORIGINAL-URL:https://www.amwacarolinas.org/wp
X-WR-CALDESC:Events for AMWA - Carolinas Chapter
REFRESH-INTERVAL;VALUE=DURATION:PT1H
X-Robots-Tag:noindex
X-PUBLISHED-TTL:PT1H
BEGIN:VTIMEZONE
TZID:America/New_York
BEGIN:DAYLIGHT
TZOFFSETFROM:-0500
TZOFFSETTO:-0400
TZNAME:EDT
DTSTART:20210314T070000
END:DAYLIGHT
BEGIN:STANDARD
TZOFFSETFROM:-0400
TZOFFSETTO:-0500
TZNAME:EST
DTSTART:20211107T060000
END:STANDARD
BEGIN:DAYLIGHT
TZOFFSETFROM:-0500
TZOFFSETTO:-0400
TZNAME:EDT
DTSTART:20220313T070000
END:DAYLIGHT
BEGIN:STANDARD
TZOFFSETFROM:-0400
TZOFFSETTO:-0500
TZNAME:EST
DTSTART:20221106T060000
END:STANDARD
BEGIN:DAYLIGHT
TZOFFSETFROM:-0500
TZOFFSETTO:-0400
TZNAME:EDT
DTSTART:20230312T070000
END:DAYLIGHT
BEGIN:STANDARD
TZOFFSETFROM:-0400
TZOFFSETTO:-0500
TZNAME:EST
DTSTART:20231105T060000
END:STANDARD
END:VTIMEZONE
BEGIN:VEVENT
DTSTART;TZID=America/New_York:20220217T183000
DTEND;TZID=America/New_York:20220217T200000
DTSTAMP:20260423T030859
CREATED:20211119T220004Z
LAST-MODIFIED:20220107T214504Z
UID:2445-1645122600-1645128000@www.amwacarolinas.org
SUMMARY:AMWA Carolinas Book Club
DESCRIPTION:Join us for a discussion of Empire of Pain\, the Secret History of the Sackler Dynasty\, by Patrick Radden Keefe. \nRegistration link is coming soon.
URL:https://www.amwacarolinas.org/wp/event/amwa-carolinas-book-club/
LOCATION:NC
CATEGORIES:2022 Events
ATTACH;FMTTYPE=image/jpeg:https://www.amwacarolinas.org/wp/wp-content/uploads/0385545681.01._SCLZZZZZZZ_SX500_.jpg
END:VEVENT
END:VCALENDAR