BEGIN:VCALENDAR
VERSION:2.0
PRODID:-//AMWA - Carolinas Chapter - ECPv6.15.20//NONSGML v1.0//EN
CALSCALE:GREGORIAN
METHOD:PUBLISH
X-ORIGINAL-URL:https://www.amwacarolinas.org/wp
X-WR-CALDESC:Events for AMWA - Carolinas Chapter
REFRESH-INTERVAL;VALUE=DURATION:PT1H
X-Robots-Tag:noindex
X-PUBLISHED-TTL:PT1H
BEGIN:VTIMEZONE
TZID:America/New_York
BEGIN:DAYLIGHT
TZOFFSETFROM:-0500
TZOFFSETTO:-0400
TZNAME:EDT
DTSTART:20210314T070000
END:DAYLIGHT
BEGIN:STANDARD
TZOFFSETFROM:-0400
TZOFFSETTO:-0500
TZNAME:EST
DTSTART:20211107T060000
END:STANDARD
BEGIN:DAYLIGHT
TZOFFSETFROM:-0500
TZOFFSETTO:-0400
TZNAME:EDT
DTSTART:20220313T070000
END:DAYLIGHT
BEGIN:STANDARD
TZOFFSETFROM:-0400
TZOFFSETTO:-0500
TZNAME:EST
DTSTART:20221106T060000
END:STANDARD
BEGIN:DAYLIGHT
TZOFFSETFROM:-0500
TZOFFSETTO:-0400
TZNAME:EDT
DTSTART:20230312T070000
END:DAYLIGHT
BEGIN:STANDARD
TZOFFSETFROM:-0400
TZOFFSETTO:-0500
TZNAME:EST
DTSTART:20231105T060000
END:STANDARD
END:VTIMEZONE
BEGIN:VEVENT
DTSTART;TZID=America/New_York:20221201T183000
DTEND;TZID=America/New_York:20221201T200000
DTSTAMP:20260422T083528
CREATED:20221118T015017Z
LAST-MODIFIED:20221120T214519Z
UID:2802-1669919400-1669924800@www.amwacarolinas.org
SUMMARY:AMWA Carolinas Chapter Asheville Holiday Event
DESCRIPTION:Celebrate the end of the year and the upcoming holiday season with your fellow medical communicators! Enjoy drinks & snacks courtesy of AMWA Carolinas! We are excited to announce we will have 3 events this year to reach more of our membership – 1 event in the RTP area\, 1 event in the Asheville area\, and 1 event in the Triad area. \nAsheville area party: \n\nDate: Dec 1st\, 2022\nTime: 6:30-8:30 pm\nLocation: The Madness Asheville\, 1020 Merrimon Avenue\, Asheville\, NC 28804\n\nRegister here for the Asheville party by Nov 29\, 2022. \nContact: Mechelle Akers mreneeakers@gmail.com
URL:https://www.amwacarolinas.org/wp/event/amwa-carolinas-chapter-asheville-holiday-event/
LOCATION:The Madness Asheville\, 1020 Merrimon Avenue\, Asheville\, NC\, 28804
CATEGORIES:2022 Events
ATTACH;FMTTYPE=image/jpeg:https://www.amwacarolinas.org/wp/wp-content/uploads/Holiday-Blog-Header-845x396-1.jpg
END:VEVENT
BEGIN:VEVENT
DTSTART;TZID=America/New_York:20221208T183000
DTEND;TZID=America/New_York:20221208T203000
DTSTAMP:20260422T083528
CREATED:20221010T211758Z
LAST-MODIFIED:20221118T020033Z
UID:2750-1670524200-1670531400@www.amwacarolinas.org
SUMMARY:AMWA Carolinas Chapter RTP Holiday Event
DESCRIPTION:Celebrate the end of the year and the upcoming holiday season with your fellow medical communicators! Enjoy drinks & snacks courtesy of AMWA Carolinas! We are excited to announce we will have 3 events this year to reach more of our membership – 1 event in the RTP area\, 1 event in the Asheville area\, and 1 event in the Triad area. \nRTP area party: \n\nDate: Dec 8th\, 2022\nTime: 6:30-8:30pm\nLocation: Page Road Grill\, 5416 Page Road\, Durham\, NC 27703\n\nRegister here for the RTP party by Dec 1st\, 2022. \n  \n 
URL:https://www.amwacarolinas.org/wp/event/amwa-carolinas-chapter-holiday-event/
LOCATION:Page Road Grill\, 5416 Page Road\, Durham\, NC\, 27703
CATEGORIES:2022 Events
ATTACH;FMTTYPE=image/jpeg:https://www.amwacarolinas.org/wp/wp-content/uploads/Holiday-Blog-Header-845x396-1.jpg
END:VEVENT
BEGIN:VEVENT
DTSTART;TZID=America/New_York:20221214T173000
DTEND;TZID=America/New_York:20221214T193000
DTSTAMP:20260422T083528
CREATED:20221113T214040Z
LAST-MODIFIED:20221118T015723Z
UID:2783-1671039000-1671046200@www.amwacarolinas.org
SUMMARY:AMWA Carolinas Chapter Triad Holiday Event
DESCRIPTION:Celebrate the end of the year and the upcoming holiday season with your fellow medical communicators! Enjoy drinks & snacks courtesy of AMWA Carolinas! We are excited to announce we will have 3 events this year to reach more of our membership – 1 event in the RTP area\, 1 in the Asheville area\, and 1 event in the Triad area. \nTriad area party: \n\nDate: Dec 14th\, 2022\nTime: 5:30-7:30 pm\nLocation: Village Tavern\, 2000 Griffith Road\, Winston-Salem\, NC 27103 (Please note the address\, there are 2 locations in the area)\n\nRegister here for the Triad party by Dec 7th\, 2022. \nLocal Contact: Luisa Giannangelo  lgiannangelo18@yahoo.com
URL:https://www.amwacarolinas.org/wp/event/amwa-carolinas-chapter-triad-holiday-event/
LOCATION:Village Tavern\, 2000 Griffith Road\, Winston-Salem\, NC\, 27103
CATEGORIES:2022 Events
ATTACH;FMTTYPE=image/jpeg:https://www.amwacarolinas.org/wp/wp-content/uploads/Holiday-Blog-Header-845x396-1.jpg
END:VEVENT
END:VCALENDAR