BEGIN:VCALENDAR
VERSION:2.0
PRODID:-//AMWA - Carolinas Chapter - ECPv6.15.20//NONSGML v1.0//EN
CALSCALE:GREGORIAN
METHOD:PUBLISH
X-ORIGINAL-URL:https://www.amwacarolinas.org/wp
X-WR-CALDESC:Events for AMWA - Carolinas Chapter
REFRESH-INTERVAL;VALUE=DURATION:PT1H
X-Robots-Tag:noindex
X-PUBLISHED-TTL:PT1H
BEGIN:VTIMEZONE
TZID:America/New_York
BEGIN:DAYLIGHT
TZOFFSETFROM:-0500
TZOFFSETTO:-0400
TZNAME:EDT
DTSTART:20210314T070000
END:DAYLIGHT
BEGIN:STANDARD
TZOFFSETFROM:-0400
TZOFFSETTO:-0500
TZNAME:EST
DTSTART:20211107T060000
END:STANDARD
BEGIN:DAYLIGHT
TZOFFSETFROM:-0500
TZOFFSETTO:-0400
TZNAME:EDT
DTSTART:20220313T070000
END:DAYLIGHT
BEGIN:STANDARD
TZOFFSETFROM:-0400
TZOFFSETTO:-0500
TZNAME:EST
DTSTART:20221106T060000
END:STANDARD
BEGIN:DAYLIGHT
TZOFFSETFROM:-0500
TZOFFSETTO:-0400
TZNAME:EDT
DTSTART:20230312T070000
END:DAYLIGHT
BEGIN:STANDARD
TZOFFSETFROM:-0400
TZOFFSETTO:-0500
TZNAME:EST
DTSTART:20231105T060000
END:STANDARD
END:VTIMEZONE
BEGIN:VEVENT
DTSTART;VALUE=DATE:20220613
DTEND;VALUE=DATE:20220615
DTSTAMP:20260422T182826
CREATED:20220524T012230Z
LAST-MODIFIED:20220524T012500Z
UID:2686-1655078400-1655251199@www.amwacarolinas.org
SUMMARY:AMWA 2022 Southeast Regional Conference
DESCRIPTION:The American Medical Writers Association (AMWA) invites you to the  AMWA 2022 Southeast Regional Conference\, taking place June 13 and 14 at the Luminary Hotel & Co. in Fort Myers\, Florida. \nJoin experts in the field of medical communication for education sessions and connect with professionals in the field. Whether you are interested in getting started as a medical writer or editor\, enhancing your skills\, or exploring a freelance career\, the program line-up has opportunities for you\, including \n\nDeveloping a Clinical Evaluation Strategy with an Eye to Regulatory and Quality Requirements\nLeveraging Public Relations in Medical Communications\nResources for Researching Medical Devices Using Publicly Available Databases\nThink Like an Editor: Improving Document Quality for Regulatory Submissions\nCommunicating Science to the Public\nFreelance Jam Session\n\nThe program also offers\, the highly rated\, intensive\, small group\, interactive workshops that are a staple of AMWA conferences. The following writing and regulatory programs are featured: \n\nStrategies for Persuasive Writing Workshop\nAdvanced Writing\nRegulations: What Does a Medical Writer Need to Know?\n\nAMWA welcomes all who are interested in the field to join us for an engaging experience. Visit the AMWA Southeast Regional Conference webpage for detailed program information and to register.
URL:https://www.amwacarolinas.org/wp/event/amwa-2022-southeast-regional-conference/
LOCATION:NC
CATEGORIES:2022 Events
ATTACH;FMTTYPE=image/png:https://www.amwacarolinas.org/wp/wp-content/uploads/brochurecoverimage.png
END:VEVENT
END:VCALENDAR