BEGIN:VCALENDAR
VERSION:2.0
PRODID:-//AMWA - Carolinas Chapter - ECPv6.15.20//NONSGML v1.0//EN
CALSCALE:GREGORIAN
METHOD:PUBLISH
X-ORIGINAL-URL:https://www.amwacarolinas.org/wp
X-WR-CALDESC:Events for AMWA - Carolinas Chapter
REFRESH-INTERVAL;VALUE=DURATION:PT1H
X-Robots-Tag:noindex
X-PUBLISHED-TTL:PT1H
BEGIN:VTIMEZONE
TZID:America/New_York
BEGIN:DAYLIGHT
TZOFFSETFROM:-0500
TZOFFSETTO:-0400
TZNAME:EDT
DTSTART:20210314T070000
END:DAYLIGHT
BEGIN:STANDARD
TZOFFSETFROM:-0400
TZOFFSETTO:-0500
TZNAME:EST
DTSTART:20211107T060000
END:STANDARD
BEGIN:DAYLIGHT
TZOFFSETFROM:-0500
TZOFFSETTO:-0400
TZNAME:EDT
DTSTART:20220313T070000
END:DAYLIGHT
BEGIN:STANDARD
TZOFFSETFROM:-0400
TZOFFSETTO:-0500
TZNAME:EST
DTSTART:20221106T060000
END:STANDARD
BEGIN:DAYLIGHT
TZOFFSETFROM:-0500
TZOFFSETTO:-0400
TZNAME:EDT
DTSTART:20230312T070000
END:DAYLIGHT
BEGIN:STANDARD
TZOFFSETFROM:-0400
TZOFFSETTO:-0500
TZNAME:EST
DTSTART:20231105T060000
END:STANDARD
END:VTIMEZONE
BEGIN:VEVENT
DTSTART;TZID=America/New_York:20220317T120000
DTEND;TZID=America/New_York:20220317T130000
DTSTAMP:20260422T232503
CREATED:20220203T033602Z
LAST-MODIFIED:20220316T132915Z
UID:2489-1647518400-1647522000@www.amwacarolinas.org
SUMMARY:The Times They Are a Changin’: Managing Change in Every Role
DESCRIPTION:Change is a way of life for medical writers. Regulations\, client needs\, and best practices are constantly evolving. Developing skills to manage this change builds your leadership capability. Learn about the roles involved in rolling out something new (initiator\, expert\, leader\, advocate\, and participant) and how to leverage each of those roles to execute change. Discover how to break down complex changes into manageable steps to maximize your chances of enacting successful lasting change. \nPresenter: Jenni Pickett\, PhD\, Medical Writer and Consultant\, Whitsell Innovations\, Inc. \nTo register: click here. \nHandout: AMWA Carolinas March 2022 Change handout
URL:https://www.amwacarolinas.org/wp/event/the-times-they-are-a-changin-managing-change-in-every-role/
LOCATION:NC
CATEGORIES:2022 Events
END:VEVENT
END:VCALENDAR